﻿BEGIN:VCALENDAR
VERSION:2.0
PRODID:-//SGS Erlangen Faustball - ECPv6.15.20//NONSGML v1.0//EN
CALSCALE:GREGORIAN
METHOD:PUBLISH
X-WR-CALNAME:SGS Erlangen Faustball
X-ORIGINAL-URL:https://www.sgs-faustball.de
X-WR-CALDESC:Veranstaltungen für SGS Erlangen Faustball
REFRESH-INTERVAL;VALUE=DURATION:PT1H
X-Robots-Tag:noindex
X-PUBLISHED-TTL:PT1H
BEGIN:VTIMEZONE
TZID:Europe/Berlin
BEGIN:DAYLIGHT
TZOFFSETFROM:+0100
TZOFFSETTO:+0200
TZNAME:CEST
DTSTART:20250330T010000
END:DAYLIGHT
BEGIN:STANDARD
TZOFFSETFROM:+0200
TZOFFSETTO:+0100
TZNAME:CET
DTSTART:20251026T010000
END:STANDARD
BEGIN:DAYLIGHT
TZOFFSETFROM:+0100
TZOFFSETTO:+0200
TZNAME:CEST
DTSTART:20260329T010000
END:DAYLIGHT
BEGIN:STANDARD
TZOFFSETFROM:+0200
TZOFFSETTO:+0100
TZNAME:CET
DTSTART:20261025T010000
END:STANDARD
BEGIN:DAYLIGHT
TZOFFSETFROM:+0100
TZOFFSETTO:+0200
TZNAME:CEST
DTSTART:20270328T010000
END:DAYLIGHT
BEGIN:STANDARD
TZOFFSETFROM:+0200
TZOFFSETTO:+0100
TZNAME:CET
DTSTART:20271031T010000
END:STANDARD
END:VTIMEZONE
BEGIN:VEVENT
DTSTART;TZID=Europe/Berlin:20260712T100000
DTEND;TZID=Europe/Berlin:20260712T170000
DTSTAMP:20260424T185845
CREATED:20260421T142009Z
LAST-MODIFIED:20260421T142009Z
UID:1698-1783850400-1783875600@www.sgs-faustball.de
SUMMARY:Letzter Spieltag der zweiten Mannschaft
DESCRIPTION:Auf der Waldsportanlage in Cadolzburg (Deberndorfer Weg 100) bestreitet die Spielgemeinschaft Erlangen-Cadolzburg ihre letzen Spiele in der Kreisklasse A. \nGegner sind die SG Georgensgmünd-Weißenburg-Mauk\, der TSV Lichtenau 3\, der ASV Veitsbronn 2 sowie der TSV Rothenburg.
URL:https://www.sgs-faustball.de/event/letzter-spieltag-der-zweiten-mannschaft/
CATEGORIES:Spieltag
ATTACH;FMTTYPE=image/jpeg:https://www.sgs-faustball.de/wordpress/wp-content/uploads/2025/07/20.jpg
END:VEVENT
END:VCALENDAR