﻿BEGIN:VCALENDAR
VERSION:2.0
PRODID:-//SGS Erlangen Faustball - ECPv6.15.20//NONSGML v1.0//EN
CALSCALE:GREGORIAN
METHOD:PUBLISH
X-ORIGINAL-URL:https://www.sgs-faustball.de
X-WR-CALDESC:Veranstaltungen für SGS Erlangen Faustball
REFRESH-INTERVAL;VALUE=DURATION:PT1H
X-Robots-Tag:noindex
X-PUBLISHED-TTL:PT1H
BEGIN:VTIMEZONE
TZID:Europe/Berlin
BEGIN:DAYLIGHT
TZOFFSETFROM:+0100
TZOFFSETTO:+0200
TZNAME:CEST
DTSTART:20250330T010000
END:DAYLIGHT
BEGIN:STANDARD
TZOFFSETFROM:+0200
TZOFFSETTO:+0100
TZNAME:CET
DTSTART:20251026T010000
END:STANDARD
BEGIN:DAYLIGHT
TZOFFSETFROM:+0100
TZOFFSETTO:+0200
TZNAME:CEST
DTSTART:20260329T010000
END:DAYLIGHT
BEGIN:STANDARD
TZOFFSETFROM:+0200
TZOFFSETTO:+0100
TZNAME:CET
DTSTART:20261025T010000
END:STANDARD
BEGIN:DAYLIGHT
TZOFFSETFROM:+0100
TZOFFSETTO:+0200
TZNAME:CEST
DTSTART:20270328T010000
END:DAYLIGHT
BEGIN:STANDARD
TZOFFSETFROM:+0200
TZOFFSETTO:+0100
TZNAME:CET
DTSTART:20271031T010000
END:STANDARD
END:VTIMEZONE
BEGIN:VEVENT
DTSTART;TZID=Europe/Berlin:20260621T100000
DTEND;TZID=Europe/Berlin:20260621T170000
DTSTAMP:20260424T174734
CREATED:20260421T134829Z
LAST-MODIFIED:20260421T142252Z
UID:1684-1782036000-1782061200@www.sgs-faustball.de
SUMMARY:Letzter Landesliga-Spieltag
DESCRIPTION:Bereits am dritten Landesliga-Spieltag hat die SGS Erlangen ihre letzten Matches. \nIn Schwebheim trifft die SGS Erlangen auf die TuS Frammersbach und den TSV Schwebheim 2.
URL:https://www.sgs-faustball.de/event/letzter-landesliga-spieltag/
CATEGORIES:Spieltag
ATTACH;FMTTYPE=image/jpeg:https://www.sgs-faustball.de/wordpress/wp-content/uploads/2025/09/08.jpg
END:VEVENT
BEGIN:VEVENT
DTSTART;TZID=Europe/Berlin:20260628T100000
DTEND;TZID=Europe/Berlin:20260628T170000
DTSTAMP:20260424T174734
CREATED:20260421T141524Z
LAST-MODIFIED:20260421T142054Z
UID:1696-1782640800-1782666000@www.sgs-faustball.de
SUMMARY:Heimspieltag der SG in der Kreisklasse
DESCRIPTION:Am 28.6.2026 empfängt die Spielgemeinschaft SG Erlangen-Cadolzburg auf der Sportanlage Komotauerstraße in Erlangen Tuspo Nürnberg zum Hin- und Rückspiel sowie die SG Georgesgmünd-Weißenburg-Mauk in der Kreisklasse A. \nZuschauer sind bei freiem Eintritt herzlich willkommen.
URL:https://www.sgs-faustball.de/event/heimspieltag-der-sg-in-der-kreisklasse/
CATEGORIES:Spieltag
ATTACH;FMTTYPE=image/jpeg:https://www.sgs-faustball.de/wordpress/wp-content/uploads/2025/04/bam25n.jpg
END:VEVENT
END:VCALENDAR