﻿BEGIN:VCALENDAR
VERSION:2.0
PRODID:-//SGS Erlangen Faustball - ECPv6.15.20//NONSGML v1.0//EN
CALSCALE:GREGORIAN
METHOD:PUBLISH
X-WR-CALNAME:SGS Erlangen Faustball
X-ORIGINAL-URL:https://www.sgs-faustball.de
X-WR-CALDESC:Veranstaltungen für SGS Erlangen Faustball
REFRESH-INTERVAL;VALUE=DURATION:PT1H
X-Robots-Tag:noindex
X-PUBLISHED-TTL:PT1H
BEGIN:VTIMEZONE
TZID:Europe/Berlin
BEGIN:DAYLIGHT
TZOFFSETFROM:+0100
TZOFFSETTO:+0200
TZNAME:CEST
DTSTART:20250330T010000
END:DAYLIGHT
BEGIN:STANDARD
TZOFFSETFROM:+0200
TZOFFSETTO:+0100
TZNAME:CET
DTSTART:20251026T010000
END:STANDARD
BEGIN:DAYLIGHT
TZOFFSETFROM:+0100
TZOFFSETTO:+0200
TZNAME:CEST
DTSTART:20260329T010000
END:DAYLIGHT
BEGIN:STANDARD
TZOFFSETFROM:+0200
TZOFFSETTO:+0100
TZNAME:CET
DTSTART:20261025T010000
END:STANDARD
BEGIN:DAYLIGHT
TZOFFSETFROM:+0100
TZOFFSETTO:+0200
TZNAME:CEST
DTSTART:20270328T010000
END:DAYLIGHT
BEGIN:STANDARD
TZOFFSETFROM:+0200
TZOFFSETTO:+0100
TZNAME:CET
DTSTART:20271031T010000
END:STANDARD
END:VTIMEZONE
BEGIN:VEVENT
DTSTART;TZID=Europe/Berlin:20260510T100000
DTEND;TZID=Europe/Berlin:20260510T170000
DTSTAMP:20260424T174125
CREATED:20260421T134249Z
LAST-MODIFIED:20260421T142218Z
UID:1680-1778407200-1778432400@www.sgs-faustball.de
SUMMARY:Heimspieltag in der Landesliga
DESCRIPTION:Zum Auftakt in die Landesliga hat die SGS Erlangen Heimrecht und spielt im ersten Durchgang gegen den TSV Lichtenau 1. Im zweiten Durchgang duellieren sich der TSV Lichtenau und der TSV Schwebheim 2\, bevor die SGS Erlangen gegen Schwebheim spielt. \nDie Spiele werden auf 3 Gewinnsätze ausgetragen. \nBesucher sind bei freiem Eintritt herzlich eingeladen.
URL:https://www.sgs-faustball.de/event/heimspieltag-in-der-landesliga/
LOCATION:SGS Sportgelände
CATEGORIES:Spieltag
ATTACH;FMTTYPE=image/jpeg:https://www.sgs-faustball.de/wordpress/wp-content/uploads/2025/09/05.jpg
END:VEVENT
BEGIN:VEVENT
DTSTART;TZID=Europe/Berlin:20260510T100000
DTEND;TZID=Europe/Berlin:20260510T170000
DTSTAMP:20260424T174125
CREATED:20260421T140704Z
LAST-MODIFIED:20260421T140754Z
UID:1692-1778407200-1778432400@www.sgs-faustball.de
SUMMARY:1. Spieltag der zweiten Mannschaft in Veitsbronn
DESCRIPTION:In der Kreisklasse A spielt die SG Erlangen-Cadolzburg am 10.5.2025 in Veitsbronn gegen ASV Veitsbronn 2\, TSV Rothenburg und TSV Lichtenau 3.
URL:https://www.sgs-faustball.de/event/spieltag-der-zweiten-mannschaft-in-veitsbronn/
CATEGORIES:Spieltag
ATTACH;FMTTYPE=image/jpeg:https://www.sgs-faustball.de/wordpress/wp-content/uploads/2025/04/bam25g.jpg
END:VEVENT
END:VCALENDAR