﻿BEGIN:VCALENDAR
VERSION:2.0
PRODID:-//SGS Erlangen Faustball - ECPv6.15.20//NONSGML v1.0//EN
CALSCALE:GREGORIAN
METHOD:PUBLISH
X-ORIGINAL-URL:https://www.sgs-faustball.de
X-WR-CALDESC:Veranstaltungen für SGS Erlangen Faustball
REFRESH-INTERVAL;VALUE=DURATION:PT1H
X-Robots-Tag:noindex
X-PUBLISHED-TTL:PT1H
BEGIN:VTIMEZONE
TZID:Europe/Berlin
BEGIN:DAYLIGHT
TZOFFSETFROM:+0100
TZOFFSETTO:+0200
TZNAME:CEST
DTSTART:20250330T010000
END:DAYLIGHT
BEGIN:STANDARD
TZOFFSETFROM:+0200
TZOFFSETTO:+0100
TZNAME:CET
DTSTART:20251026T010000
END:STANDARD
BEGIN:DAYLIGHT
TZOFFSETFROM:+0100
TZOFFSETTO:+0200
TZNAME:CEST
DTSTART:20260329T010000
END:DAYLIGHT
BEGIN:STANDARD
TZOFFSETFROM:+0200
TZOFFSETTO:+0100
TZNAME:CET
DTSTART:20261025T010000
END:STANDARD
BEGIN:DAYLIGHT
TZOFFSETFROM:+0100
TZOFFSETTO:+0200
TZNAME:CEST
DTSTART:20270328T010000
END:DAYLIGHT
BEGIN:STANDARD
TZOFFSETFROM:+0200
TZOFFSETTO:+0100
TZNAME:CET
DTSTART:20271031T010000
END:STANDARD
END:VTIMEZONE
BEGIN:VEVENT
DTSTART;TZID=Europe/Berlin:20260208T100000
DTEND;TZID=Europe/Berlin:20260208T130000
DTSTAMP:20260425T211707
CREATED:20251119T190054Z
LAST-MODIFIED:20251119T190308Z
UID:1616-1770544800-1770555600@www.sgs-faustball.de
SUMMARY:Heimspiele zum letzten Hauptrundenspieltag
DESCRIPTION:Auch der vierte Spieltag in der Hallen-Bezirksliga Ost findet am 8.2.2026 ab 10 Uhr in der Ballsporthalle in Weisendorf statt. Beim letzen Hauptrundenspieltag trifft die SGS Erlangen als Gastgeber auf den TSV Cadolzburg\, Tuspo Nürnberg und die SG Georgensgmünd/Weißenburg.\nDie ersten beiden der Tabelle qualifizieren sich für die ENdrunde gegen die Teilnehmer der Bezirksliga West. \nDer Eintritt zum Spieltag in der Ballsporthalle ist frei und für Getränke\, Kaffee und Kuchen ist gesorgt.
URL:https://www.sgs-faustball.de/event/heimspiele-zum-letzten-hauptrundenspieltag/
LOCATION:Ballsporthalle Weisendorf\, Reuther Weg 6A\, Weisendorf\, 91085\, Germany
CATEGORIES:Spieltag
ATTACH;FMTTYPE=image/jpeg:https://www.sgs-faustball.de/wordpress/wp-content/uploads/2025/10/14.jpg
END:VEVENT
END:VCALENDAR